BEGIN:VCALENDAR
VERSION:2.0
PRODID:-//Westshore RFC - ECPv5.4.0.2//NONSGML v1.0//EN
CALSCALE:GREGORIAN
METHOD:PUBLISH
X-WR-CALNAME:Westshore RFC
X-ORIGINAL-URL:https://westshorerfc.com
X-WR-CALDESC:Events for Westshore RFC
BEGIN:VTIMEZONE
TZID:America/Vancouver
BEGIN:DAYLIGHT
TZOFFSETFROM:-0800
TZOFFSETTO:-0700
TZNAME:PDT
DTSTART:20200308T100000
END:DAYLIGHT
BEGIN:STANDARD
TZOFFSETFROM:-0700
TZOFFSETTO:-0800
TZNAME:PST
DTSTART:20201101T090000
END:STANDARD
END:VTIMEZONE
BEGIN:VEVENT
DTSTART;TZID=America/Vancouver:20201028T193000
DTEND;TZID=America/Vancouver:20201028T213000
DTSTAMP:20260424T165506
CREATED:20201014T214442Z
LAST-MODIFIED:20201014T214522Z
UID:7959-1603913400-1603920600@westshorerfc.com
SUMMARY:Westshore RFC AGM-Zoom Virtual Meeting: 28 Oct 20-7:30pm
DESCRIPTION:WESTSHORE RFC AGM \n\nThe rugby club will be conducting an AGM on 28th Oct 20 at 7:30pm for all\, We encourage all members to please attend this virtual event.\n\nWithin the week of the AGM\, the ZOOM meeting details will be posted in the Facebook event for all to participate. Facebook Event-AGM\n\n\nGrounds rules are to please keep your mic muted at all times unless you are speaking\, when speaking please be brief and respectful to others in meetings.\n\nThe following positions on the Board of Directors are empty or current member occupying will be vacating by AGM:\n\n\n\n\n\n-Director of Fields & Equipment\n-Treasurer\n\n\n\nDetails of these positions can be found in the Manual of Policy on our website: http://westshorerfc.com/…/westshore-rfc-manual-of-policy/\n\n\nAll other Board of Director positions are staying on in current roles. But anybody may challenge for these positions against a sitting member if they wish to.
URL:https://westshorerfc.com/index.php/event/westshore-rfc-agm-28-oct-20-730pm/
LOCATION:Zoom Program-Virtual\, Victoria\, BC
CATEGORIES:social
END:VEVENT
END:VCALENDAR