BEGIN:VCALENDAR
VERSION:2.0
PRODID:-//Westshore RFC - ECPv5.4.0.2//NONSGML v1.0//EN
CALSCALE:GREGORIAN
METHOD:PUBLISH
X-WR-CALNAME:Westshore RFC
X-ORIGINAL-URL:https://westshorerfc.com
X-WR-CALDESC:Events for Westshore RFC
BEGIN:VTIMEZONE
TZID:America/Vancouver
BEGIN:DAYLIGHT
TZOFFSETFROM:-0800
TZOFFSETTO:-0700
TZNAME:PDT
DTSTART:20230312T100000
END:DAYLIGHT
BEGIN:STANDARD
TZOFFSETFROM:-0700
TZOFFSETTO:-0800
TZNAME:PST
DTSTART:20231105T090000
END:STANDARD
END:VTIMEZONE
BEGIN:VEVENT
DTSTART;VALUE=DATE:20230924
DTEND;VALUE=DATE:20230925
DTSTAMP:20260424T195649
CREATED:20230907T191741Z
LAST-MODIFIED:20230907T191741Z
UID:8508-1695513600-1695599999@westshorerfc.com
SUMMARY:U14 - U18 Boys/Girls Island Festival Westshore
DESCRIPTION:
URL:https://westshorerfc.com/index.php/event/u14-u18-boys-girls-island-festival-westshore/
LOCATION:Westshore Rugby Club
CATEGORIES:juniors
END:VEVENT
END:VCALENDAR