BEGIN:VCALENDAR
VERSION:2.0
PRODID:-//Westshore RFC - ECPv5.4.0.2//NONSGML v1.0//EN
CALSCALE:GREGORIAN
METHOD:PUBLISH
X-WR-CALNAME:Westshore RFC
X-ORIGINAL-URL:https://westshorerfc.com
X-WR-CALDESC:Events for Westshore RFC
BEGIN:VTIMEZONE
TZID:America/Vancouver
BEGIN:DAYLIGHT
TZOFFSETFROM:-0800
TZOFFSETTO:-0700
TZNAME:PDT
DTSTART:20230312T100000
END:DAYLIGHT
BEGIN:STANDARD
TZOFFSETFROM:-0700
TZOFFSETTO:-0800
TZNAME:PST
DTSTART:20231105T090000
END:STANDARD
END:VTIMEZONE
BEGIN:VEVENT
DTSTART;TZID=America/Vancouver:20230601T180000
DTEND;TZID=America/Vancouver:20230831T193000
DTSTAMP:20260424T165323
CREATED:20230530T160351Z
LAST-MODIFIED:20230530T160506Z
UID:8423-1685642400-1693510200@westshorerfc.com
SUMMARY:Thursday Touch Rugby
DESCRIPTION:Everyone is welcome to join for drop in touch rugby. Every Thursday from 6:00pm to 7:30pm.
URL:https://westshorerfc.com/index.php/event/thursday-touch-rugby/
LOCATION:Westshore Rugby Club – Turf Field (Behind The Q Center-Center of Velodrome)\, 1767 Old Island Hwy\, Victoria\, BC
CATEGORIES:Senior
END:VEVENT
END:VCALENDAR