BEGIN:VCALENDAR
VERSION:2.0
PRODID:-//Westshore RFC - ECPv5.4.0.2//NONSGML v1.0//EN
CALSCALE:GREGORIAN
METHOD:PUBLISH
X-WR-CALNAME:Westshore RFC
X-ORIGINAL-URL:https://westshorerfc.com
X-WR-CALDESC:Events for Westshore RFC
BEGIN:VTIMEZONE
TZID:America/Vancouver
BEGIN:DAYLIGHT
TZOFFSETFROM:-0800
TZOFFSETTO:-0700
TZNAME:PDT
DTSTART:20250309T100000
END:DAYLIGHT
BEGIN:STANDARD
TZOFFSETFROM:-0700
TZOFFSETTO:-0800
TZNAME:PST
DTSTART:20251102T090000
END:STANDARD
END:VTIMEZONE
BEGIN:VEVENT
DTSTART;VALUE=DATE:20250314
DTEND;VALUE=DATE:20250315
DTSTAMP:20260424T165343
CREATED:20250128T010652Z
LAST-MODIFIED:20250128T010652Z
UID:8871-1741910400-1741996799@westshorerfc.com
SUMMARY:Secondary School Sevens
DESCRIPTION:
URL:https://westshorerfc.com/index.php/event/secondary-school-sevens/
CATEGORIES:juniors
END:VEVENT
END:VCALENDAR