BEGIN:VCALENDAR
VERSION:2.0
PRODID:-//Westshore RFC - ECPv5.4.0.2//NONSGML v1.0//EN
CALSCALE:GREGORIAN
METHOD:PUBLISH
X-WR-CALNAME:Westshore RFC
X-ORIGINAL-URL:https://westshorerfc.com
X-WR-CALDESC:Events for Westshore RFC
BEGIN:VTIMEZONE
TZID:America/Vancouver
BEGIN:DAYLIGHT
TZOFFSETFROM:-0800
TZOFFSETTO:-0700
TZNAME:PDT
DTSTART:20260308T100000
END:DAYLIGHT
BEGIN:STANDARD
TZOFFSETFROM:-0700
TZOFFSETTO:-0800
TZNAME:PST
DTSTART:20261101T090000
END:STANDARD
END:VTIMEZONE
BEGIN:VEVENT
DTSTART;TZID=America/Vancouver:20260124T110000
DTEND;TZID=America/Vancouver:20260124T133000
DTSTAMP:20260424T151107
CREATED:20260108T035207Z
LAST-MODIFIED:20260108T035338Z
UID:9048-1769252400-1769261400@westshorerfc.com
SUMMARY:Premier Reserve Men vs Burnaby
DESCRIPTION:
URL:https://westshorerfc.com/index.php/event/premier-reserve-men-vs-burnaby/
LOCATION:Westshore Rugby Club
CATEGORIES:Match
END:VEVENT
END:VCALENDAR