BEGIN:VCALENDAR
VERSION:2.0
PRODID:-//Westshore RFC - ECPv5.4.0.2//NONSGML v1.0//EN
CALSCALE:GREGORIAN
METHOD:PUBLISH
X-WR-CALNAME:Westshore RFC
X-ORIGINAL-URL:https://westshorerfc.com
X-WR-CALDESC:Events for Westshore RFC
BEGIN:VTIMEZONE
TZID:America/Vancouver
BEGIN:DAYLIGHT
TZOFFSETFROM:-0800
TZOFFSETTO:-0700
TZNAME:PDT
DTSTART:20250309T100000
END:DAYLIGHT
BEGIN:STANDARD
TZOFFSETFROM:-0700
TZOFFSETTO:-0800
TZNAME:PST
DTSTART:20251102T090000
END:STANDARD
END:VTIMEZONE
BEGIN:VEVENT
DTSTART;TZID=America/Vancouver:20250315T180000
DTEND;TZID=America/Vancouver:20250315T220000
DTSTAMP:20260424T153313
CREATED:20250128T010353Z
LAST-MODIFIED:20250128T010353Z
UID:8863-1742061600-1742076000@westshorerfc.com
SUMMARY:Casino Night
DESCRIPTION:Join Us For Our Annual Casino Night Fundraiser! \nOddfellows Lodge #1\, Downtown Victoria \nDoors Open from 6:00pm-10:00pm \nTicket & Price Details To Come.
URL:https://westshorerfc.com/index.php/event/casino-night/
LOCATION:oddfellows\, 1315 Douglas St\, Victoria\, British Columbia\, V8W 2E9\, Canada
CATEGORIES:social
END:VEVENT
END:VCALENDAR